BEGIN:VCALENDAR
VERSION:2.0
PRODID:-//eventon.com NONSGML v1.0//EN
CALSCALE:GREGORIAN
METHOD:PUBLISH
BEGIN:VEVENT
UID:69ea43cba42cd
DTSTAMP:20260423T160739Z
DTSTART:20260426T000000Z
DTEND:20260426T020000Z
LOCATION:Sala SCD Bellavista Santa Filomena 110\,  Recoleta
SUMMARY:Chercán
DESCRIPTION:Coordenadas de Chercán en Sala SCD Bellavista (2026) Fecha y h
 ora: Sábado 25 de abril de 2026\,  a las 20:00 hrs. Lugar: SCD Bellavista 
 (Santa Filomena 110\,  Recoleta) Sistema de venta de Entradas: PortalTicket
 s Valor de las entradas (sin considerar el cargo por el servicio): Preventa
 : $4.000 Entrada General: $6.000[..]\nhttps://chileanskies.com/events/cherc
 an/
URL:https://chileanskies.com/events/chercan/
END:VEVENT
END:VCALENDAR